BEGIN:VCALENDAR
VERSION:2.0
PRODID:-//Saint-Cyr-L&#039;École, site officiel de la Mairie - ECPv5.16.0//NONSGML v1.0//EN
CALSCALE:GREGORIAN
METHOD:PUBLISH
X-WR-CALNAME:Saint-Cyr-L&#039;École, site officiel de la Mairie
X-ORIGINAL-URL:https://www.saintcyr78.fr
X-WR-CALDESC:Évènements pour Saint-Cyr-L&#039;École, site officiel de la Mairie
BEGIN:VTIMEZONE
TZID:Europe/Paris
BEGIN:DAYLIGHT
TZOFFSETFROM:+0100
TZOFFSETTO:+0200
TZNAME:CEST
DTSTART:20230326T010000
END:DAYLIGHT
BEGIN:STANDARD
TZOFFSETFROM:+0200
TZOFFSETTO:+0100
TZNAME:CET
DTSTART:20231029T010000
END:STANDARD
END:VTIMEZONE
BEGIN:VEVENT
DTSTART;TZID=UTC:19700101T173000
DTEND;TZID=UTC:20240301T203000
DTSTAMP:20260421T110603
CREATED:20240221T092630Z
LAST-MODIFIED:20240301T141903Z
UID:40116-63000-1709325000@www.saintcyr78.fr
SUMMARY:Séance spéciale du film « La Ferme des Bertrand » en présence des fermes de Gally
DESCRIPTION:La Ferme des Bertrand  \n1h29 Documentaire \nDe Gilles Perret \n50 ans dans la vie d’une ferme… Haute Savoie\, 1972 : la ferme des Bertrand\, exploitation laitière d’une centaine de bêtes tenue par trois frères célibataires\, est filmée pour la première fois. En voisin\, le réalisateur Gilles Perret leur consacre en 1997 son premier film\, alors que les trois agriculteurs sont en train de transmettre la ferme à leur neveu Patrick et sa femme Hélène. Aujourd’hui\, 25 ans plus tard\, le réalisateur-voisin reprend la caméra pour accompagner Hélène qui\, à son tour\, va passer la main. \nLa bande annonce juste ici : https://www.allocine.fr/video/player_gen_cmedia=19602533&cfilm=319782.html \nSéance suivie  d’une dégustation de jus de pomme organisée par la ferme de Gally
URL:https://www.saintcyr78.fr/evenement/seance-speciale-du-film-la-ferme-des-bertrand-en-presence-des-fermes-de-gally/
LOCATION:cinéma les Yeux d’Elsa\, 11bis Avenue Jean Jaurès\,\, Saint cyr l'école\, 78210\, France
END:VEVENT
BEGIN:VEVENT
DTSTART;VALUE=DATE:20231206
DTEND;VALUE=DATE:20231219
DTSTAMP:20260421T110603
CREATED:20231204T154305Z
LAST-MODIFIED:20231205T124543Z
UID:36025-1701820800-1702943999@www.saintcyr78.fr
SUMMARY:Quizz de Noël sur l’application mobile de la Ville
DESCRIPTION:Pour célébrer la fin d’année\, nous vous proposons de participer à un quizz sur la Ville de Saint-Cyr-l’École. \nDu 6 au 18 décembre\, rendez-vous sur l’application mobile de la commune et répondez aux quelques questions posées. Un tirage au sort sera effectué parmi ceux qui auront les bonnes réponses : une récompense chocolatée à la clé ! \nPour téléchargez l’appli :\n Sur téléphone Android \n Sur IPhone \nConsulter le règlement du concours
URL:https://www.saintcyr78.fr/evenement/quizz-de-noel-sur-lapplication-mobile-de-la-ville/
END:VEVENT
END:VCALENDAR