BEGIN:VCALENDAR
VERSION:2.0
PRODID:-//Saint-Cyr-L&#039;École, site officiel de la Mairie - ECPv5.16.0//NONSGML v1.0//EN
CALSCALE:GREGORIAN
METHOD:PUBLISH
X-WR-CALNAME:Saint-Cyr-L&#039;École, site officiel de la Mairie
X-ORIGINAL-URL:https://www.saintcyr78.fr
X-WR-CALDESC:Évènements pour Saint-Cyr-L&#039;École, site officiel de la Mairie
BEGIN:VTIMEZONE
TZID:Europe/Paris
BEGIN:DAYLIGHT
TZOFFSETFROM:+0100
TZOFFSETTO:+0200
TZNAME:CEST
DTSTART:20260329T010000
END:DAYLIGHT
BEGIN:STANDARD
TZOFFSETFROM:+0200
TZOFFSETTO:+0100
TZNAME:CET
DTSTART:20261025T010000
END:STANDARD
END:VTIMEZONE
BEGIN:VEVENT
DTSTART;TZID=Europe/Paris:20260321T203000
DTEND;TZID=Europe/Paris:20260321T213000
DTSTAMP:20260423T030855
CREATED:20260306T151635Z
LAST-MODIFIED:20260306T151635Z
UID:64325-1774125000-1774128600@www.saintcyr78.fr
SUMMARY:Spectacle "PV - PRESQUE VRAI"
DESCRIPTION:Vous pensiez voir un spectacle ? Vous allez assister à la thérapie déjantée d’un mec qui rêvait d’être Federer et qui a fini avec juste un bandeau ridicule sur la tête !\nPV\, c’est une catastrophe sportive qui s’est recyclée en bombe comique. Son corps l’a trahi (spoiler : il était juste nul)\, alors maintenant c’est lui qui trahit tous les codes du stand-up en balançant un mélange explosif d’impros\, de personnages et de confessions qui vous fera mourir de rire.\nVous l’avez peut-être croisé à l’Olympia avec le Jamel Comedy Club\, à Montreux\, ou dans sa série Canal+ « Sur Place ou à emporter »… ou alors vous ne savez absolument pas qui c’est\, mais sa tête vous dit quelque chose.\nPeu importe ! Accrochez-vous à vos sièges : son imagination délirante va vous embarquer plus loin qu’un service de Nadal. Et ça\, c’est la seule comparaison tennistique positive qu’il mérite ! \n\nThéâtre Gérard-Philipe\nSamedi 21 mars 2026\nÀ 20h30\n\n  \nRéservez vos places en cliquant ici ! \n\n\n	Similaire
URL:https://www.saintcyr78.fr/evenement/spectacle-pv-presque-vrai/
CATEGORIES:Spectacle,Evènement
END:VEVENT
END:VCALENDAR