BEGIN:VCALENDAR
VERSION:2.0
PRODID:-//Saint-Cyr-L&#039;École, site officiel de la Mairie - ECPv5.16.0//NONSGML v1.0//EN
CALSCALE:GREGORIAN
METHOD:PUBLISH
X-WR-CALNAME:Saint-Cyr-L&#039;École, site officiel de la Mairie
X-ORIGINAL-URL:https://www.saintcyr78.fr
X-WR-CALDESC:Évènements pour Saint-Cyr-L&#039;École, site officiel de la Mairie
BEGIN:VTIMEZONE
TZID:Europe/Paris
BEGIN:DAYLIGHT
TZOFFSETFROM:+0100
TZOFFSETTO:+0200
TZNAME:CEST
DTSTART:20260329T010000
END:DAYLIGHT
BEGIN:STANDARD
TZOFFSETFROM:+0200
TZOFFSETTO:+0100
TZNAME:CET
DTSTART:20261025T010000
END:STANDARD
END:VTIMEZONE
BEGIN:VEVENT
DTSTART;TZID=Europe/Paris:20260113T140000
DTEND;TZID=Europe/Paris:20260127T160000
DTSTAMP:20260423T045148
CREATED:20251230T134817Z
LAST-MODIFIED:20260126T145658Z
UID:65835-1768312800-1769529600@www.saintcyr78.fr
SUMMARY:Pause Famille : atelier portage
DESCRIPTION:Dans le cadre des Pauses Famille\, participez à un atelier de portage pour vous initier et/ou vous perfectionner.\nLes ateliers ont lieu à la Maison de la Petite Enfance\, de 14h à 16h. \nPour participez\, vous devez réserver : \n\n\nPar téléphone au : 01 30 45 04 04 ou 01 34 60 02 03\nPar mail à : parentalite@saintcyr78.fr\n\n\nCalendrier du mois de janvier :  \n\n\n\nMardi 20 janvier / Initiation\n\n\nMardi 27 janvier / Perfectionnement\n\n\n\n\n\n	Similaire
URL:https://www.saintcyr78.fr/evenement/pause-famille-atelier-portage/
CATEGORIES:Atelier
END:VEVENT
END:VCALENDAR