BEGIN:VCALENDAR
VERSION:2.0
PRODID:-//Saint-Cyr-L&#039;École, site officiel de la Mairie - ECPv5.16.0//NONSGML v1.0//EN
CALSCALE:GREGORIAN
METHOD:PUBLISH
X-WR-CALNAME:Saint-Cyr-L&#039;École, site officiel de la Mairie
X-ORIGINAL-URL:https://www.saintcyr78.fr
X-WR-CALDESC:Évènements pour Saint-Cyr-L&#039;École, site officiel de la Mairie
BEGIN:VTIMEZONE
TZID:Europe/Paris
BEGIN:DAYLIGHT
TZOFFSETFROM:+0100
TZOFFSETTO:+0200
TZNAME:CEST
DTSTART:20230326T010000
END:DAYLIGHT
BEGIN:STANDARD
TZOFFSETFROM:+0200
TZOFFSETTO:+0100
TZNAME:CET
DTSTART:20231029T010000
END:STANDARD
END:VTIMEZONE
BEGIN:VEVENT
DTSTART;TZID=Europe/Paris:20230420T100000
DTEND;TZID=Europe/Paris:20230420T110000
DTSTAMP:20260420T120752
CREATED:20220325T164901Z
LAST-MODIFIED:20230221T084618Z
UID:26896-1681984800-1681988400@www.saintcyr78.fr
SUMMARY:Spectacle jeune public - Le Loup est revenu !
DESCRIPTION:En tournée depuis 9 ans\, découvrez une fidèle adaptation pleine d’humour et de rebondissements du classique de la littérature enfantine de Geoffroy de Pennart. \nCe soir là\, Monsieur Lapin et ses amis ont peur d’aller se coucher car ils viennent d’apprendre une nouvelle terrifiante : le loup est revenu ! Il est vivement conseillé à tout un chacun de ne pas sortir et de fermer sa porte à clef. \nTous les personnages des contes les plus célèbres – les Trois Petits Cochons\, le Petit Chaperon Rouge\, Pierre ainsi que Madame Chèvre et ses chevreaux – viennent tour à tour se réfugier chez Monsieur Lapin. \nMais tout à coup\,  » toc\, toc\, toc « \, on frappe à la porte ! Qui est-ce ?… \nThéâtre Gérard Philipe\nJeudi 20 avril à 10 heures\nRéservation sur la billetterie en ligne\, ou au 01 30 14 82 95  \n\n\n	Similaire
URL:https://www.saintcyr78.fr/evenement/le-loup-est-revenu/
LOCATION:Théâtre Gérard Philipe\, Rue Gérard Philipe\, Saint Cyr l'Ecole\, 78210\, France
CATEGORIES:Spectacle
ORGANIZER;CN="Mairie%20de%20Saint-Cyr-l%27Ecole":MAILTO:courrier@saintcyr78.fr
END:VEVENT
END:VCALENDAR