BEGIN:VCALENDAR
VERSION:2.0
PRODID:-//Saint-Cyr-L&#039;École, site officiel de la Mairie - ECPv5.16.0//NONSGML v1.0//EN
CALSCALE:GREGORIAN
METHOD:PUBLISH
X-WR-CALNAME:Saint-Cyr-L&#039;École, site officiel de la Mairie
X-ORIGINAL-URL:https://www.saintcyr78.fr
X-WR-CALDESC:Évènements pour Saint-Cyr-L&#039;École, site officiel de la Mairie
BEGIN:VTIMEZONE
TZID:Europe/Paris
BEGIN:DAYLIGHT
TZOFFSETFROM:+0100
TZOFFSETTO:+0200
TZNAME:CEST
DTSTART:20220327T010000
END:DAYLIGHT
BEGIN:STANDARD
TZOFFSETFROM:+0200
TZOFFSETTO:+0100
TZNAME:CET
DTSTART:20221030T010000
END:STANDARD
END:VTIMEZONE
BEGIN:VEVENT
DTSTART;TZID=Europe/Paris:20220701T183000
DTEND;TZID=Europe/Paris:20220701T213000
DTSTAMP:20260421T123442
CREATED:20210625T145308Z
LAST-MODIFIED:20220628T095022Z
UID:22706-1656700200-1656711000@www.saintcyr78.fr
SUMMARY:Fanfa'Cyr
DESCRIPTION:Le vendredi 1er juillet\, à partir de 18h30\, tenez-vous prêts. Les Fanfa’Cyr sont de retour ! Rendez-vous dans les rues de Saint-Cyr-l’École pour profiter d’une ambiance festive au rythme des « bandas ». \nLes fanfares prendront d’assaut la commune afin d’animer la quasi-totalité de la ville. Ouvrez vos portes et vos fenêtres\, tendez l’oreille et sortez dans la rue\, vous les verrez et les entendrez très certainement. \nConsulter les itinéraires des fanfares en cliquant ici. \n  \n\n\n	Similaire
URL:https://www.saintcyr78.fr/evenement/fanfacyr-2/
LOCATION:Saint-Cyr-l’École
CATEGORIES:Fête
ORGANIZER;CN="Mairie%20de%20Saint-Cyr-l%27Ecole":MAILTO:courrier@saintcyr78.fr
END:VEVENT
END:VCALENDAR