BEGIN:VCALENDAR
VERSION:2.0
PRODID:-//Saint-Cyr-L&#039;École, site officiel de la Mairie - ECPv5.16.0//NONSGML v1.0//EN
CALSCALE:GREGORIAN
METHOD:PUBLISH
X-WR-CALNAME:Saint-Cyr-L&#039;École, site officiel de la Mairie
X-ORIGINAL-URL:https://www.saintcyr78.fr
X-WR-CALDESC:Évènements pour Saint-Cyr-L&#039;École, site officiel de la Mairie
BEGIN:VTIMEZONE
TZID:Europe/Paris
BEGIN:DAYLIGHT
TZOFFSETFROM:+0100
TZOFFSETTO:+0200
TZNAME:CEST
DTSTART:20190331T010000
END:DAYLIGHT
BEGIN:STANDARD
TZOFFSETFROM:+0200
TZOFFSETTO:+0100
TZNAME:CET
DTSTART:20191027T010000
END:STANDARD
END:VTIMEZONE
BEGIN:VEVENT
DTSTART;TZID=Europe/Paris:20190202T203000
DTEND;TZID=Europe/Paris:20190202T220000
DTSTAMP:20260420T103005
CREATED:20181217T094638Z
LAST-MODIFIED:20190122T135513Z
UID:4890-1549139400-1549144800@www.saintcyr78.fr
SUMMARY:En attendant Bojangles
DESCRIPTION:Sous le regard émerveillé de leur fils\, ils dansent sur Mr. Bojangles de Nina Simone. Leur amour est magique\, vertigineux\, une fête perpétuelle. Chez eux\, il n’y a de place que pour le plaisir\, la fantaisie et les amis. Celle qui donne le ton\, qui mène le bal\, c’est la mère\, feu follet imprévisible et extravagant. C’est elle qui a adopté le quatrième membre de la famille\, Mademoiselle Superfétatoire\, un grand oiseau exotique qui déambule dans l’appartement. \n\n\n	Similaire
URL:https://www.saintcyr78.fr/evenement/en-attendant-bojangles/
LOCATION:Théâtre Gérard Philipe\, Rue Gérard Philipe\, Saint Cyr l'Ecole\, 78210\, France
CATEGORIES:Spectacle
ORGANIZER;CN="Mairie%20de%20Saint-Cyr-l%27Ecole":MAILTO:courrier@saintcyr78.fr
END:VEVENT
END:VCALENDAR