BEGIN:VCALENDAR
VERSION:2.0
PRODID:-//Saint-Cyr-L&#039;École, site officiel de la Mairie - ECPv5.16.0//NONSGML v1.0//EN
CALSCALE:GREGORIAN
METHOD:PUBLISH
X-WR-CALNAME:Saint-Cyr-L&#039;École, site officiel de la Mairie
X-ORIGINAL-URL:https://www.saintcyr78.fr
X-WR-CALDESC:Évènements pour Saint-Cyr-L&#039;École, site officiel de la Mairie
BEGIN:VTIMEZONE
TZID:Europe/Paris
BEGIN:DAYLIGHT
TZOFFSETFROM:+0100
TZOFFSETTO:+0200
TZNAME:CEST
DTSTART:20230326T010000
END:DAYLIGHT
BEGIN:STANDARD
TZOFFSETFROM:+0200
TZOFFSETTO:+0100
TZNAME:CET
DTSTART:20231029T010000
END:STANDARD
END:VTIMEZONE
BEGIN:VEVENT
DTSTART;TZID=Europe/Paris:20231111T113000
DTEND;TZID=Europe/Paris:20231111T124500
DTSTAMP:20260423T145217
CREATED:20231020T152441Z
LAST-MODIFIED:20231110T102556Z
UID:24571-1699702200-1699706700@www.saintcyr78.fr
SUMMARY:Commémoration de l'Armistice du 11 novembre 1918
DESCRIPTION:Le samedi 11 novembre\, Saint-Cyr-l’École commémorera l’Armistice du 11 Novembre 1918. \nCette cérémonie du 11 novembre 2023 réunira les élus du Conseil municipal des jeunes\, les élèves et représentants du lycée militaire\, ainsi que les associations d’anciens combattants\, dès 11h30 Square de l’Hôtel de Ville. L’ensemble de la population saint-cyrienne est appelé à participer à cette hommage. \nLe cortège se dirigera ensuite vers le Cimetière ancien. \n  \n\n\n\n	Similaire
URL:https://www.saintcyr78.fr/evenement/commemoration-de-larmistice/
LOCATION:Square de l’Hôtel de Ville\, Square de l'Hôtel de Ville\, Saint-Cyr-l'Ecole\, 78210
CATEGORIES:Commémoration
ORGANIZER;CN="Mairie%20de%20Saint-Cyr-l%27Ecole":MAILTO:courrier@saintcyr78.fr
END:VEVENT
END:VCALENDAR