BEGIN:VCALENDAR
VERSION:2.0
PRODID:-//Saint-Cyr-L&#039;École, site officiel de la Mairie - ECPv5.16.0//NONSGML v1.0//EN
CALSCALE:GREGORIAN
METHOD:PUBLISH
X-WR-CALNAME:Saint-Cyr-L&#039;École, site officiel de la Mairie
X-ORIGINAL-URL:https://www.saintcyr78.fr
X-WR-CALDESC:Évènements pour Saint-Cyr-L&#039;École, site officiel de la Mairie
BEGIN:VTIMEZONE
TZID:Europe/Paris
BEGIN:DAYLIGHT
TZOFFSETFROM:+0100
TZOFFSETTO:+0200
TZNAME:CEST
DTSTART:20250330T010000
END:DAYLIGHT
BEGIN:STANDARD
TZOFFSETFROM:+0200
TZOFFSETTO:+0100
TZNAME:CET
DTSTART:20251026T010000
END:STANDARD
END:VTIMEZONE
BEGIN:VEVENT
DTSTART;TZID=Europe/Paris:20251007T193000
DTEND;TZID=Europe/Paris:20251007T210000
DTSTAMP:20260426T031408
CREATED:20250731T155624Z
LAST-MODIFIED:20250924T134325Z
UID:60184-1759865400-1759870800@www.saintcyr78.fr
SUMMARY:Ciné-débat "Un jour\, tu vieilliras..."
DESCRIPTION:Le film « Un jour\, tu vielliras… » d’Edouard Carrion aborde avec pudeur les facteurs qui conduisent une personne âgée à s’isoler puis les éléments qui contribuent à lui redonner le goût de la vie et le plaisir de retisser des liens. Il évoque les liens intergénérationnels avec des moments d’humour\, de tendresse et d’émotions. Le débat\, parrainé par M. Laurent Mazaury\, Député de la 11ème circonscription\, animé par l’équipe Prévention de la Mutualité française IDF\, sera l’occasion d’aborder la prise en charge du grand-âge en France et la question du comment mieux-vieillir.  \nPour participer au ciné-débat\, rendez-vous : \n\nMardi 7 octobre à 19h30 au cinéma Les Yeux d’Elsa ;\nInvitation gratuite\, mais inscription obligatoire en envoyant un mail à : cpeguet@mutualite-idf.fr  \n\n\n\n	Similaire
URL:https://www.saintcyr78.fr/evenement/cine-debat-un-jour-tu-vieilliras/
END:VEVENT
END:VCALENDAR