BEGIN:VCALENDAR
VERSION:2.0
PRODID:-//Saint-Cyr-L&#039;École, site officiel de la Mairie - ECPv5.16.0//NONSGML v1.0//EN
CALSCALE:GREGORIAN
METHOD:PUBLISH
X-WR-CALNAME:Saint-Cyr-L&#039;École, site officiel de la Mairie
X-ORIGINAL-URL:https://www.saintcyr78.fr
X-WR-CALDESC:Évènements pour Saint-Cyr-L&#039;École, site officiel de la Mairie
BEGIN:VTIMEZONE
TZID:Europe/Paris
BEGIN:DAYLIGHT
TZOFFSETFROM:+0100
TZOFFSETTO:+0200
TZNAME:CEST
DTSTART:20200329T010000
END:DAYLIGHT
BEGIN:STANDARD
TZOFFSETFROM:+0200
TZOFFSETTO:+0100
TZNAME:CET
DTSTART:20201025T010000
END:STANDARD
END:VTIMEZONE
BEGIN:VEVENT
DTSTART;TZID=Europe/Paris:20200704T140000
DTEND;TZID=Europe/Paris:20200704T170000
DTSTAMP:20260423T111626
CREATED:20200702T164330Z
LAST-MODIFIED:20230725T134727Z
UID:12790-1593871200-1593882000@www.saintcyr78.fr
SUMMARY:Balades Propres - Quartier Gérard Philipe
DESCRIPTION:  \nParticipez à rendre votre ville plus belle en rejoignant la « balade propre » de votre quartier samedi 4 juillet. La propreté des rues est l’affaire de tous\, et ce sont les efforts de chacun qui permettront de faire de Saint-Cyr une ville où il fait bon vivre. En partenariat avec la commune et Versailles Grand Parc\, cette initiative citoyenne attend de nombreux volontaires pour un grand nettoyage d’été. \nPour participer aux balades propres\, faites vous connaitre afin de réserver le matériel nécessaire à une bonne collecte. Cet événement convient aux familles et aux enfants accompagnés. \n\n\n	Similaire
URL:https://www.saintcyr78.fr/evenement/balades-propres-quartier-gerard-philipe/
LOCATION:Théâtre Gérard Philipe\, Rue Gérard Philipe\, Saint Cyr l'Ecole\, 78210\, France
ORGANIZER;CN="Mairie%20de%20Saint-Cyr-l%27Ecole":MAILTO:courrier@saintcyr78.fr
END:VEVENT
END:VCALENDAR